BEGIN:VCALENDAR
VERSION:2.0
PRODID:-//Tukios.com/
BEGIN:VEVENT
UID:b3f5ca58-7f6d-44c4-989c-df39a87401d3@www.bensonfuneralservices.com
DTSTAMP:20260423T192836Z
DTSTART:20260427T163000Z
DTEND:20260427T173000Z
SUMMARY:Graveside Service
DESCRIPTION:
URL:https://www.bensonfuneralservices.com/obituaries/john-nixon
LOCATION:Salisbury National Cemetery 501 Statesville Blvd  Salisbury NC 
	28144
GEO:35.6805279;-80.4931209
END:VEVENT
END:VCALENDAR