BEGIN:VCALENDAR
VERSION:2.0
PRODID:-//Tukios.com/
BEGIN:VEVENT
UID:a85155cc-83d8-4bbf-904a-5066f67d64ac@www.bensonfuneralservices.com
DTSTAMP:20260423T193403Z
DTSTART:20260425T160000Z
DTEND:20260425T170000Z
SUMMARY:Visitation
DESCRIPTION:
URL:https://www.bensonfuneralservices.com/obituaries/john-nixon
LOCATION:Benson Funeral Service 101 Oak Grove Street  Mount Holly NC 
	28120
GEO:35.2907754;-81.0167553
END:VEVENT
END:VCALENDAR