BEGIN:VCALENDAR
VERSION:2.0
PRODID:-//Tukios.com/
BEGIN:VEVENT
UID:950723af-1b53-452c-b441-b2e4017e1e10@www.bensonfuneralservices.com
DTSTAMP:20260423T192422Z
DTSTART:20260425T170000Z
DTEND:20260425T180000Z
SUMMARY:Funeral Service
DESCRIPTION:
URL:https://www.bensonfuneralservices.com/obituaries/john-nixon
LOCATION:Benson Funeral & Cremation Service 101 Oak Grove Street  Mount 
	Holly NC 28120
GEO:35.2907754;-81.0167553
END:VEVENT
END:VCALENDAR