BEGIN:VCALENDAR
VERSION:2.0
PRODID:-//Tukios.com/
BEGIN:VEVENT
UID:0fadabfe-e52b-4a0a-9dc2-2cdaefe71741@www.bensonfuneralservices.com
DTSTAMP:20260420T193952Z
DTSTART:20260516T180000Z
DTEND:20260516T200000Z
SUMMARY:Celebration of Life
DESCRIPTION:
URL:https://www.bensonfuneralservices.com/obituaries/david-fletcher
LOCATION: 101 Oak Grove St.  Mt. Holly NC 28120
GEO:35.2907524;-81.0167581
END:VEVENT
END:VCALENDAR