BEGIN:VCALENDAR
VERSION:2.0
PRODID:-//Tukios.com/
BEGIN:VEVENT
UID:209804f0-2d1f-44d2-9f34-ea548056af52@www.bensonfuneralservices.com
DTSTAMP:20260422T220956Z
DTSTART:20260428T163000Z
DTEND:20260428T173000Z
SUMMARY:Burial
DESCRIPTION:
URL:https://www.bensonfuneralservices.com/obituaries/audrey-heath-bentley
LOCATION:Salisbury National Cemetery 501 Statesville Blvd  Salisbury NC 
	28144
GEO:35.6805279;-80.4931209
END:VEVENT
END:VCALENDAR