BEGIN:VCALENDAR
VERSION:2.0
PRODID:-//Tukios.com/
BEGIN:VEVENT
UID:6b42c8a1-f995-4a71-b02a-8ee2961e934b@www.bensonfuneralservices.com
DTSTAMP:20260422T220706Z
DTSTART:20260426T190000Z
DTEND:20260426T200000Z
SUMMARY:Funeral Service
DESCRIPTION:
URL:https://www.bensonfuneralservices.com/obituaries/audrey-heath-bentley
LOCATION:Benson Funeral & Cremation 101 Oak Grove St.  Mt. Holly NC 28120
GEO:35.2907524;-81.0167581
END:VEVENT
END:VCALENDAR