BEGIN:VCALENDAR
VERSION:2.0
PRODID:-//Tukios.com/
BEGIN:VEVENT
UID:c468b4c1-7a5f-4f03-ae2f-1b69d85dfeed@www.bensonfuneralservices.com
DTSTAMP:20260422T221007Z
DTSTART:20260426T180000Z
DTEND:20260426T190000Z
SUMMARY:Visitation
DESCRIPTION:
URL:https://www.bensonfuneralservices.com/obituaries/audrey-heath-bentley
LOCATION:Benson Funeral & Cremation 101 Oak Grove St.  Mt. Holly NC 28120
GEO:35.2907524;-81.0167581
END:VEVENT
END:VCALENDAR